Workbook

Sheet (はじめにお読み下さい)申請書の使い方
A2: 本申請書の使い方、申請の手順
A4: 手順 | B4: 事業者（法人本部）の作業 | C4: 各事業所等の作業
A5: 1 | B5: 本Excelを各事業所に配布し、以下の様式への記入を依頼 ・別添１－２（個票）
A6: =A5+1 -> 2 | C6: 以下の作業を行った上で、事業者（法人本部）へ返送 【別添１－２（個票）】 ・水色セル：必要情報を入力 ・緑色セル：プルダウンから選択
A7: =A6+1 -> 3 | B7: 各事業所の個票のシートを１つのExcelファイルに集約し、個票シート名を「個票●」（●は１からの通し番号）に修正
A8: =A7+1 -> 4 | B8: 別添１－２（個票）の内容が、別添１－１（申請・精算額一覧）に正しく反映されていることを確認 ※15事業所以上ある場合には6行目～15行目を行ごとコピーし、16行目に右クリック→「コピーしたセルの挿入」で挿入すること。
A9: =A8+1 -> 5 | B9: 申請書に、申請者の法人名、代表者名、日付、問い合わせ先を入力
A10: =A9+1 -> 6 | B10: 完成したExcelファイルを県の委託事業者に送付

Sheet 申請書
A1: 第１号様式（第４関係）
AC3: 令和 | AF3: 年 | AI3: 月 | AL3: 日
A5: 青森県知事 | I5: 殿
Q7: 申請者 | U7: 法人住所
U8: 法人名称
U9: 代表者職氏名
A11: 令和８年度青森県介護事業所等及び介護施設等に対するサービス継続支援事業費 補助金交付申請兼実績報告書
A14: 令和８年度青森県介護事業所等及び介護施設等に対するサービス継続支援事業について、補 助金の交付を受けたいので、青森県補助金等の交付に関する規則第３条の規定により、関係書 類を添えて下記のとおり申請します。
S15: 記
B16: １ 補助金交付申請兼実績報告額 | R16: 金 | S16: =申請・精算額一覧!I105*1000 -> 0 | AB16: 円
B19: ２ 添付書類
B20: （１）事業所・施設別申請・精算額一覧（別添１－１）
B21: （２）サービス継続支援事業に関する事業実績報告書（事業所・施設単位）（別添１－２）
B22: （３）振込口座が確認できる書類（通帳の表紙及び通帳を開いた１・２ページ目の写し）
T25: 【申請内容に関する問い合わせ先】
U27: 担当者氏名
U28: 連絡先 | Y28: 電話番号

Sheet 申請・精算額一覧
A1: （別添１－１）事業所・施設別申請・精算額一覧
A3: No. | B3: 事業所・施設名 | C3: 介護保険 事業所番号 | D3: サービス種別 | E3: 住所 | F3: 定員 | G3: 補助申請・精算額（千円） | J3: 審査 結果
G4: 介護事業所等に対するサービス継続支援事業 | H4: 介護施設等に対するサービス継続支援事業 | I4: 合計
A5: =ROW()-4 -> 1 | B5: =IFERROR(INDIRECT("個票"&$A5&"！$t$7"),"") -> 0 | C5: =IFERROR(INDIRECT("個票"&$A5&"！$h$7"),"") -> 0 | D5: =IFERROR(INDIRECT("個票"&$A5&"！$l$10"),"") -> 0 | E5: =IFERROR(INDIRECT("個票"&$A5&"！$ｈ$9"),"") -> 0 | F5: =IFERROR(INDIRECT("個票"&$A5&"！$aｊ$10"),"") -> 0 | G5: =IFERROR(INDIRECT("個票"&$A5&"！$ai$22"),"") | H5: =IFERROR(INDIRECT("個票"&$A5&"！$ai$60"),"") | I5: =SUM(G5,H5) -> 0
A6: =ROW()-4 -> 2 | B6: =IFERROR(INDIRECT("個票"&$A6&"！$t$7"),"") -> 0 | C6: =IFERROR(INDIRECT("個票"&$A6&"！$h$7"),"") -> 0 | D6: =IFERROR(INDIRECT("個票"&$A6&"！$l$10"),"") -> 0 | E6: =IFERROR(INDIRECT("個票"&$A6&"！$ｈ$9"),"") -> 0 | F6: =IFERROR(INDIRECT("個票"&$A6&"！$aｊ$10"),"") -> 0 | G6: =IFERROR(INDIRECT("個票"&$A6&"！$ai$22"),"") | H6: =IFERROR(INDIRECT("個票"&$A6&"！$ai$60"),"") | I6: =SUM(G6,H6) -> 0
A7: =ROW()-4 -> 3 | B7: =IFERROR(INDIRECT("個票"&$A7&"！$t$7"),"") -> 0 | C7: =IFERROR(INDIRECT("個票"&$A7&"！$h$7"),"") -> 0 | D7: =IFERROR(INDIRECT("個票"&$A7&"！$l$10"),"") -> 0 | E7: =IFERROR(INDIRECT("個票"&$A7&"！$ｈ$9"),"") -> 0 | F7: =IFERROR(INDIRECT("個票"&$A7&"！$aｊ$10"),"") -> 0 | G7: =IFERROR(INDIRECT("個票"&$A7&"！$ai$22"),"") | H7: =IFERROR(INDIRECT("個票"&$A7&"！$ai$60"),"") | I7: =SUM(G7,H7) -> 0
A8: =ROW()-4 -> 4 | B8: =IFERROR(INDIRECT("個票"&$A8&"！$t$7"),"") -> 0 | C8: =IFERROR(INDIRECT("個票"&$A8&"！$h$7"),"") -> 0 | D8: =IFERROR(INDIRECT("個票"&$A8&"！$l$10"),"") -> 0 | E8: =IFERROR(INDIRECT("個票"&$A8&"！$ｈ$9"),"") -> 0 | F8: =IFERROR(INDIRECT("個票"&$A8&"！$aｊ$10"),"") -> 0 | G8: =IFERROR(INDIRECT("個票"&$A8&"！$ai$22"),"") | H8: =IFERROR(INDIRECT("個票"&$A8&"！$ai$60"),"") | I8: =SUM(G8,H8) -> 0
A9: =ROW()-4 -> 5 | B9: =IFERROR(INDIRECT("個票"&$A9&"！$t$7"),"") -> 0 | C9: =IFERROR(INDIRECT("個票"&$A9&"！$h$7"),"") -> 0 | D9: =IFERROR(INDIRECT("個票"&$A9&"！$l$10"),"") -> 0 | E9: =IFERROR(INDIRECT("個票"&$A9&"！$ｈ$9"),"") -> 0 | F9: =IFERROR(INDIRECT("個票"&$A9&"！$aｊ$10"),"") -> 0 | G9: =IFERROR(INDIRECT("個票"&$A9&"！$ai$22"),"") | H9: =IFERROR(INDIRECT("個票"&$A9&"！$ai$60"),"") | I9: =SUM(G9,H9) -> 0
A10: =ROW()-4 -> 6 | B10: =IFERROR(INDIRECT("個票"&$A10&"！$t$7"),"") -> 0 | C10: =IFERROR(INDIRECT("個票"&$A10&"！$h$7"),"") -> 0 | D10: =IFERROR(INDIRECT("個票"&$A10&"！$l$10"),"") -> 0 | E10: =IFERROR(INDIRECT("個票"&$A10&"！$ｈ$9"),"") -> 0 | F10: =IFERROR(INDIRECT("個票"&$A10&"！$aｊ$10"),"") -> 0 | G10: =IFERROR(INDIRECT("個票"&$A10&"！$ai$22"),"") | H10: =IFERROR(INDIRECT("個票"&$A10&"！$ai$60"),"") | I10: =SUM(G10,H10) -> 0
A11: =ROW()-4 -> 7 | B11: =IFERROR(INDIRECT("個票"&$A11&"！$t$7"),"") -> 0 | C11: =IFERROR(INDIRECT("個票"&$A11&"！$h$7"),"") -> 0 | D11: =IFERROR(INDIRECT("個票"&$A11&"！$l$10"),"") -> 0 | E11: =IFERROR(INDIRECT("個票"&$A11&"！$ｈ$9"),"") -> 0 | F11: =IFERROR(INDIRECT("個票"&$A11&"！$aｊ$10"),"") -> 0 | G11: =IFERROR(INDIRECT("個票"&$A11&"！$ai$22"),"") | H11: =IFERROR(INDIRECT("個票"&$A11&"！$ai$60"),"") | I11: =SUM(G11,H11) -> 0
A12: =ROW()-4 -> 8 | B12: =IFERROR(INDIRECT("個票"&$A12&"！$t$7"),"") -> 0 | C12: =IFERROR(INDIRECT("個票"&$A12&"！$h$7"),"") -> 0 | D12: =IFERROR(INDIRECT("個票"&$A12&"！$l$10"),"") -> 0 | E12: =IFERROR(INDIRECT("個票"&$A12&"！$ｈ$9"),"") -> 0 | F12: =IFERROR(INDIRECT("個票"&$A12&"！$aｊ$10"),"") -> 0 | G12: =IFERROR(INDIRECT("個票"&$A12&"！$ai$22"),"") | H12: =IFERROR(INDIRECT("個票"&$A12&"！$ai$60"),"") | I12: =SUM(G12,H12) -> 0
A13: =ROW()-4 -> 9 | B13: =IFERROR(INDIRECT("個票"&$A13&"！$t$7"),"") -> 0 | C13: =IFERROR(INDIRECT("個票"&$A13&"！$h$7"),"") -> 0 | D13: =IFERROR(INDIRECT("個票"&$A13&"！$l$10"),"") -> 0 | E13: =IFERROR(INDIRECT("個票"&$A13&"！$ｈ$9"),"") -> 0 | F13: =IFERROR(INDIRECT("個票"&$A13&"！$aｊ$10"),"") -> 0 | G13: =IFERROR(INDIRECT("個票"&$A13&"！$ai$22"),"") | H13: =IFERROR(INDIRECT("個票"&$A13&"！$ai$60"),"") | I13: =SUM(G13,H13) -> 0
A14: =ROW()-4 -> 10 | B14: =IFERROR(INDIRECT("個票"&$A14&"！$t$7"),"") -> 0 | C14: =IFERROR(INDIRECT("個票"&$A14&"！$h$7"),"") -> 0 | D14: =IFERROR(INDIRECT("個票"&$A14&"！$l$10"),"") -> 0 | E14: =IFERROR(INDIRECT("個票"&$A14&"！$ｈ$9"),"") -> 0 | F14: =IFERROR(INDIRECT("個票"&$A14&"！$aｊ$10"),"") -> 0 | G14: =IFERROR(INDIRECT("個票"&$A14&"！$ai$22"),"") | H14: =IFERROR(INDIRECT("個票"&$A14&"！$ai$60"),"") | I14: =SUM(G14,H14) -> 0
A15: =ROW()-4 -> 11 | B15: =IFERROR(INDIRECT("個票"&$A15&"！$t$7"),"") -> 0 | C15: =IFERROR(INDIRECT("個票"&$A15&"！$h$7"),"") -> 0 | D15: =IFERROR(INDIRECT("個票"&$A15&"！$l$10"),"") -> 0 | E15: =IFERROR(INDIRECT("個票"&$A15&"！$ｈ$9"),"") -> 0 | F15: =IFERROR(INDIRECT("個票"&$A15&"！$aｊ$10"),"") -> 0 | G15: =IFERROR(INDIRECT("個票"&$A15&"！$ai$22"),"") | H15: =IFERROR(INDIRECT("個票"&$A15&"！$ai$60"),"") | I15: =SUM(G15,H15) -> 0
A16: =ROW()-4 -> 12 | B16: =IFERROR(INDIRECT("個票"&$A16&"！$t$7"),"") -> 0 | C16: =IFERROR(INDIRECT("個票"&$A16&"！$h$7"),"") -> 0 | D16: =IFERROR(INDIRECT("個票"&$A16&"！$l$10"),"") -> 0 | E16: =IFERROR(INDIRECT("個票"&$A16&"！$ｈ$9"),"") -> 0 | F16: =IFERROR(INDIRECT("個票"&$A16&"！$aｊ$10"),"") -> 0 | G16: =IFERROR(INDIRECT("個票"&$A16&"！$ai$22"),"") | H16: =IFERROR(INDIRECT("個票"&$A16&"！$ai$60"),"") | I16: =SUM(G16,H16) -> 0
... A104: =ROW()-4 -> 100 | B104: =IFERROR(INDIRECT("個票"&$A104&"！$t$7"),"") | C104: =IFERROR(INDIRECT("個票"&$A104&"！$h$7"),"") | D104: =IFERROR(INDIRECT("個票"&$A104&"！$l$10"),"") | E104: =IFERROR(INDIRECT("個票"&$A104&"！$ｈ$9"),"") | F104: =IFERROR(INDIRECT("個票"&$A104&"！$aｊ$10"),"") | G104: =IFERROR(INDIRECT("個票"&$A104&"！$ai$22"),"") | H104: =IFERROR(INDIRECT("個票"&$A104&"！$ai$60"),"") | I104: =SUM(G104,H104) -> 0
B105: 合計 | I105: =SUM(I5:I104) -> 0
A107: （注）行が不足する場合には、「本申請書の使い方」に従って、行を追加すること。列の挿入は絶対に行わないこと。

Sheet 個票1
A1: （別添１－２）
A3: サービス継続支援事業に関する事業実績報告書（事業所・施設単位）
A5: 事業所・施設概要
A7: 介護保険事業所番号 | O7: 名称
A8: 所在地 | D8: 都道府県名 | H8: 住所 | Y8: 連絡先 | AB8: 電話番号
D9: 青森県
A10: 提供サービス（プルダウンから選択） | AG10: 定員 | AL10: 人
A11: 事業区分 | J11: 介護事業所等に対するサービス継続支援事業 | Z11: 介護施設等に対するサービス継続支援事業
A13: 申請にあたっての確認事項
A15: 領収書等の根拠資料は事業所等において適切に保管している。
A16: 支出予定の費用について、他の補助金等と重複は生じていない。
A17: 消費税は含んでいない。
A19: 支出済額
A21: １．介護事業所等に対するサービス継続支援事業（設備・備品分） | AD21: 補助上限額 | AI21: 申請兼実績額
AD22: =IFERROR(VLOOKUP(L10,リスト!B2:D23,2,FALSE),IFERROR(VLOOKUP(L10,リスト!B24:D30,2,FALSE)*AJ10,"")) | AG22: 千円 | AI22: =IF(AD22="","",MIN(AD22,ROUNDDOWN((AF39+AF57)/1000,0))) | AL22: 千円
A23: 【介護サービスを円滑に継続するための対応】
A24: 品名 | H24: 用途 | AB24: 数量（単位） | AF24: 支出済額（円）※税抜き
A39: 合計 | AF39: =SUM(AF25:AM38) -> 0
A41: 【災害備蓄等への対応】
A42: 品名 | H42: 用途 | AB42: 数量（単位） | AF42: 支出済額（円）※税抜き
A57: 合計 | AF57: =SUM(AF43:AM56) -> 0
A59: ２．介護施設等に対するサービス継続支援事業（食事提供分） | AD59: 補助上限額 | AI59: 申請兼実績額
AD60: =IFERROR(VLOOKUP(L10,リスト!B24:E30,4,FALSE)*AJ10,"") | AG60: 千円 | AI60: =IF(AD60="","",MIN(AD60,ROUNDDOWN(AF77/1000,0))) | AL60: 千円
A62: 品名 | H62: 用途 | AB62: 数量（単位） | AF62: 支出済額（円）※税抜き
A77: 合計 | AF77: =SUM(AF63:AM76) -> 0
A79: （注）申請兼実績額は、補助上限額と支出済額を比較していずれか低い方の額が入力される。

Sheet 個票2
A1: （別添１－２）
A3: サービス継続支援事業に関する事業実績報告書（事業所・施設単位）
A5: 事業所・施設概要
A7: 介護保険事業所番号 | O7: 名称
A8: 所在地 | D8: 都道府県名 | H8: 住所 | Y8: 連絡先 | AB8: 電話番号
D9: 青森県
A10: 提供サービス（プルダウンから選択） | AG10: 定員 | AL10: 人
A11: 事業区分 | J11: 介護事業所等に対するサービス継続支援事業 | Z11: 介護施設等に対するサービス継続支援事業
A13: 申請にあたっての確認事項
A15: 領収書等の根拠資料は事業所等において適切に保管している。
A16: 支出予定の費用について、他の補助金等と重複は生じていない。
A17: 消費税は含んでいない。
A19: 支出済額
A21: １．介護事業所等に対するサービス継続支援事業（設備・備品分） | AD21: 補助上限額 | AI21: 申請兼実績額
AD22: =IFERROR(VLOOKUP(L10,リスト!B2:D23,2,FALSE),IFERROR(VLOOKUP(L10,リスト!B24:D30,2,FALSE)*AJ10,"")) | AG22: 千円 | AI22: =IF(AD22="","",MIN(AD22,ROUNDDOWN((AF39+AF57)/1000,0))) | AL22: 千円
A23: 【介護サービスを円滑に継続するための対応】
A24: 品名 | H24: 用途 | AB24: 数量（単位） | AF24: 支出済額（円）※税抜き
A39: 合計 | AF39: =SUM(AF25:AM38) -> 0
A41: 【災害備蓄等への対応】
A42: 品名 | H42: 用途 | AB42: 数量（単位） | AF42: 支出済額（円）※税抜き
A57: 合計 | AF57: =SUM(AF43:AM56) -> 0
A59: ２．介護施設等に対するサービス継続支援事業（食事提供分） | AD59: 補助上限額 | AI59: 申請兼実績額
AD60: =IFERROR(VLOOKUP(L10,リスト!B24:E30,4,FALSE)*AJ10,"") | AG60: 千円 | AI60: =IF(AD60="","",MIN(AD60,ROUNDDOWN(AF77/1000,0))) | AL60: 千円
A62: 品名 | H62: 用途 | AB62: 数量（単位） | AF62: 支出済額（円）※税抜き
A77: 合計 | AF77: =SUM(AF63:AM76) -> 0
A79: （注）申請兼実績額は、補助上限額と支出済額を比較していずれか低い方の額が入力される。

Sheet 個票3
A1: （別添１－２）
A3: サービス継続支援事業に関する事業実績報告書（事業所・施設単位）
A5: 事業所・施設概要
A7: 介護保険事業所番号 | O7: 名称
A8: 所在地 | D8: 都道府県名 | H8: 住所 | Y8: 連絡先 | AB8: 電話番号
D9: 青森県
A10: 提供サービス（プルダウンから選択） | AG10: 定員 | AL10: 人
A11: 事業区分 | J11: 介護事業所等に対するサービス継続支援事業 | Z11: 介護施設等に対するサービス継続支援事業
A13: 申請にあたっての確認事項
A15: 領収書等の根拠資料は事業所等において適切に保管している。
A16: 支出予定の費用について、他の補助金等と重複は生じていない。
A17: 消費税は含んでいない。
A19: 支出済額
A21: １．介護事業所等に対するサービス継続支援事業（設備・備品分） | AD21: 補助上限額 | AI21: 申請兼実績額
AD22: =IFERROR(VLOOKUP(L10,リスト!B2:D23,2,FALSE),IFERROR(VLOOKUP(L10,リスト!B24:D30,2,FALSE)*AJ10,"")) | AG22: 千円 | AI22: =IF(AD22="","",MIN(AD22,ROUNDDOWN((AF39+AF57)/1000,0))) | AL22: 千円
A23: 【介護サービスを円滑に継続するための対応】
A24: 品名 | H24: 用途 | AB24: 数量（単位） | AF24: 支出済額（円）※税抜き
A39: 合計 | AF39: =SUM(AF25:AM38) -> 0
A41: 【災害備蓄等への対応】
A42: 品名 | H42: 用途 | AB42: 数量（単位） | AF42: 支出済額（円）※税抜き
A57: 合計 | AF57: =SUM(AF43:AM56) -> 0
A59: ２．介護施設等に対するサービス継続支援事業（食事提供分） | AD59: 補助上限額 | AI59: 申請兼実績額
AD60: =IFERROR(VLOOKUP(L10,リスト!B24:E30,4,FALSE)*AJ10,"") | AG60: 千円 | AI60: =IF(AD60="","",MIN(AD60,ROUNDDOWN(AF77/1000,0))) | AL60: 千円
A62: 品名 | H62: 用途 | AB62: 数量（単位） | AF62: 支出済額（円）※税抜き
A77: 合計 | AF77: =SUM(AF63:AM76) -> 0
A79: （注）申請兼実績額は、補助上限額と支出済額を比較していずれか低い方の額が入力される。

Sheet 個票4
A1: （別添１－２）
A3: サービス継続支援事業に関する事業実績報告書（事業所・施設単位）
A5: 事業所・施設概要
A7: 介護保険事業所番号 | O7: 名称
A8: 所在地 | D8: 都道府県名 | H8: 住所 | Y8: 連絡先 | AB8: 電話番号
D9: 青森県
A10: 提供サービス（プルダウンから選択） | AG10: 定員 | AL10: 人
A11: 事業区分 | J11: 介護事業所等に対するサービス継続支援事業 | Z11: 介護施設等に対するサービス継続支援事業
A13: 申請にあたっての確認事項
A15: 領収書等の根拠資料は事業所等において適切に保管している。
A16: 支出予定の費用について、他の補助金等と重複は生じていない。
A17: 消費税は含んでいない。
A19: 支出済額
A21: １．介護事業所等に対するサービス継続支援事業（設備・備品分） | AD21: 補助上限額 | AI21: 申請兼実績額
AD22: =IFERROR(VLOOKUP(L10,リスト!B2:D23,2,FALSE),IFERROR(VLOOKUP(L10,リスト!B24:D30,2,FALSE)*AJ10,"")) | AG22: 千円 | AI22: =IF(AD22="","",MIN(AD22,ROUNDDOWN((AF39+AF57)/1000,0))) | AL22: 千円
A23: 【介護サービスを円滑に継続するための対応】
A24: 品名 | H24: 用途 | AB24: 数量（単位） | AF24: 支出済額（円）※税抜き
A39: 合計 | AF39: =SUM(AF25:AM38) -> 0
A41: 【災害備蓄等への対応】
A42: 品名 | H42: 用途 | AB42: 数量（単位） | AF42: 支出済額（円）※税抜き
A57: 合計 | AF57: =SUM(AF43:AM56) -> 0
A59: ２．介護施設等に対するサービス継続支援事業（食事提供分） | AD59: 補助上限額 | AI59: 申請兼実績額
AD60: =IFERROR(VLOOKUP(L10,リスト!B24:E30,4,FALSE)*AJ10,"") | AG60: 千円 | AI60: =IF(AD60="","",MIN(AD60,ROUNDDOWN(AF77/1000,0))) | AL60: 千円
A62: 品名 | H62: 用途 | AB62: 数量（単位） | AF62: 支出済額（円）※税抜き
A77: 合計 | AF77: =SUM(AF63:AM76) -> 0
A79: （注）申請兼実績額は、補助上限額と支出済額を比較していずれか低い方の額が入力される。

Sheet 個票5
A1: （別添１－２）
A3: サービス継続支援事業に関する事業実績報告書（事業所・施設単位）
A5: 事業所・施設概要
A7: 介護保険事業所番号 | O7: 名称
A8: 所在地 | D8: 都道府県名 | H8: 住所 | Y8: 連絡先 | AB8: 電話番号
D9: 青森県
A10: 提供サービス（プルダウンから選択） | AG10: 定員 | AL10: 人
A11: 事業区分 | J11: 介護事業所等に対するサービス継続支援事業 | Z11: 介護施設等に対するサービス継続支援事業
A13: 申請にあたっての確認事項
A15: 領収書等の根拠資料は事業所等において適切に保管している。
A16: 支出予定の費用について、他の補助金等と重複は生じていない。
A17: 消費税は含んでいない。
A19: 支出済額
A21: １．介護事業所等に対するサービス継続支援事業（設備・備品分） | AD21: 補助上限額 | AI21: 申請兼実績額
AD22: =IFERROR(VLOOKUP(L10,リスト!B2:D23,2,FALSE),IFERROR(VLOOKUP(L10,リスト!B24:D30,2,FALSE)*AJ10,"")) | AG22: 千円 | AI22: =IF(AD22="","",MIN(AD22,ROUNDDOWN((AF39+AF57)/1000,0))) | AL22: 千円
A23: 【介護サービスを円滑に継続するための対応】
A24: 品名 | H24: 用途 | AB24: 数量（単位） | AF24: 支出済額（円）※税抜き
A39: 合計 | AF39: =SUM(AF25:AM38) -> 0
A41: 【災害備蓄等への対応】
A42: 品名 | H42: 用途 | AB42: 数量（単位） | AF42: 支出済額（円）※税抜き
A57: 合計 | AF57: =SUM(AF43:AM56) -> 0
A59: ２．介護施設等に対するサービス継続支援事業（食事提供分） | AD59: 補助上限額 | AI59: 申請兼実績額
AD60: =IFERROR(VLOOKUP(L10,リスト!B24:E30,4,FALSE)*AJ10,"") | AG60: 千円 | AI60: =IF(AD60="","",MIN(AD60,ROUNDDOWN(AF77/1000,0))) | AL60: 千円
A62: 品名 | H62: 用途 | AB62: 数量（単位） | AF62: 支出済額（円）※税抜き
A77: 合計 | AF77: =SUM(AF63:AM76) -> 0
A79: （注）申請兼実績額は、補助上限額と支出済額を比較していずれか低い方の額が入力される。

Sheet 個票6
A1: （別添１－２）
A3: サービス継続支援事業に関する事業実績報告書（事業所・施設単位）
A5: 事業所・施設概要
A7: 介護保険事業所番号 | O7: 名称
A8: 所在地 | D8: 都道府県名 | H8: 住所 | Y8: 連絡先 | AB8: 電話番号
D9: 青森県
A10: 提供サービス（プルダウンから選択） | AG10: 定員 | AL10: 人
A11: 事業区分 | J11: 介護事業所等に対するサービス継続支援事業 | Z11: 介護施設等に対するサービス継続支援事業
A13: 申請にあたっての確認事項
A15: 領収書等の根拠資料は事業所等において適切に保管している。
A16: 支出予定の費用について、他の補助金等と重複は生じていない。
A17: 消費税は含んでいない。
A19: 支出済額
A21: １．介護事業所等に対するサービス継続支援事業（設備・備品分） | AD21: 補助上限額 | AI21: 申請兼実績額
AD22: =IFERROR(VLOOKUP(L10,リスト!B2:D23,2,FALSE),IFERROR(VLOOKUP(L10,リスト!B24:D30,2,FALSE)*AJ10,"")) | AG22: 千円 | AI22: =IF(AD22="","",MIN(AD22,ROUNDDOWN((AF39+AF57)/1000,0))) | AL22: 千円
A23: 【介護サービスを円滑に継続するための対応】
A24: 品名 | H24: 用途 | AB24: 数量（単位） | AF24: 支出済額（円）※税抜き
A39: 合計 | AF39: =SUM(AF25:AM38) -> 0
A41: 【災害備蓄等への対応】
A42: 品名 | H42: 用途 | AB42: 数量（単位） | AF42: 支出済額（円）※税抜き
A57: 合計 | AF57: =SUM(AF43:AM56) -> 0
A59: ２．介護施設等に対するサービス継続支援事業（食事提供分） | AD59: 補助上限額 | AI59: 申請兼実績額
AD60: =IFERROR(VLOOKUP(L10,リスト!B24:E30,4,FALSE)*AJ10,"") | AG60: 千円 | AI60: =IF(AD60="","",MIN(AD60,ROUNDDOWN(AF77/1000,0))) | AL60: 千円
A62: 品名 | H62: 用途 | AB62: 数量（単位） | AF62: 支出済額（円）※税抜き
A77: 合計 | AF77: =SUM(AF63:AM76) -> 0
A79: （注）申請兼実績額は、補助上限額と支出済額を比較していずれか低い方の額が入力される。

Sheet 個票7
A1: （別添１－２）
A3: サービス継続支援事業に関する事業実績報告書（事業所・施設単位）
A5: 事業所・施設概要
A7: 介護保険事業所番号 | O7: 名称
A8: 所在地 | D8: 都道府県名 | H8: 住所 | Y8: 連絡先 | AB8: 電話番号
D9: 青森県
A10: 提供サービス（プルダウンから選択） | AG10: 定員 | AL10: 人
A11: 事業区分 | J11: 介護事業所等に対するサービス継続支援事業 | Z11: 介護施設等に対するサービス継続支援事業
A13: 申請にあたっての確認事項
A15: 領収書等の根拠資料は事業所等において適切に保管している。
A16: 支出予定の費用について、他の補助金等と重複は生じていない。
A17: 消費税は含んでいない。
A19: 支出済額
A21: １．介護事業所等に対するサービス継続支援事業（設備・備品分） | AD21: 補助上限額 | AI21: 申請兼実績額
AD22: =IFERROR(VLOOKUP(L10,リスト!B2:D23,2,FALSE),IFERROR(VLOOKUP(L10,リスト!B24:D30,2,FALSE)*AJ10,"")) | AG22: 千円 | AI22: =IF(AD22="","",MIN(AD22,ROUNDDOWN((AF39+AF57)/1000,0))) | AL22: 千円
A23: 【介護サービスを円滑に継続するための対応】
A24: 品名 | H24: 用途 | AB24: 数量（単位） | AF24: 支出済額（円）※税抜き
A39: 合計 | AF39: =SUM(AF25:AM38) -> 0
A41: 【災害備蓄等への対応】
A42: 品名 | H42: 用途 | AB42: 数量（単位） | AF42: 支出済額（円）※税抜き
A57: 合計 | AF57: =SUM(AF43:AM56) -> 0
A59: ２．介護施設等に対するサービス継続支援事業（食事提供分） | AD59: 補助上限額 | AI59: 申請兼実績額
AD60: =IFERROR(VLOOKUP(L10,リスト!B24:E30,4,FALSE)*AJ10,"") | AG60: 千円 | AI60: =IF(AD60="","",MIN(AD60,ROUNDDOWN(AF77/1000,0))) | AL60: 千円
A62: 品名 | H62: 用途 | AB62: 数量（単位） | AF62: 支出済額（円）※税抜き
A77: 合計 | AF77: =SUM(AF63:AM76) -> 0
A79: （注）申請兼実績額は、補助上限額と支出済額を比較していずれか低い方の額が入力される。

Sheet 個票8
A1: （別添１－２）
A3: サービス継続支援事業に関する事業実績報告書（事業所・施設単位）
A5: 事業所・施設概要
A7: 介護保険事業所番号 | O7: 名称
A8: 所在地 | D8: 都道府県名 | H8: 住所 | Y8: 連絡先 | AB8: 電話番号
D9: 青森県
A10: 提供サービス（プルダウンから選択） | AG10: 定員 | AL10: 人
A11: 事業区分 | J11: 介護事業所等に対するサービス継続支援事業 | Z11: 介護施設等に対するサービス継続支援事業
A13: 申請にあたっての確認事項
A15: 領収書等の根拠資料は事業所等において適切に保管している。
A16: 支出予定の費用について、他の補助金等と重複は生じていない。
A17: 消費税は含んでいない。
A19: 支出済額
A21: １．介護事業所等に対するサービス継続支援事業（設備・備品分） | AD21: 補助上限額 | AI21: 申請兼実績額
AD22: =IFERROR(VLOOKUP(L10,リスト!B2:D23,2,FALSE),IFERROR(VLOOKUP(L10,リスト!B24:D30,2,FALSE)*AJ10,"")) | AG22: 千円 | AI22: =IF(AD22="","",MIN(AD22,ROUNDDOWN((AF39+AF57)/1000,0))) | AL22: 千円
A23: 【介護サービスを円滑に継続するための対応】
A24: 品名 | H24: 用途 | AB24: 数量（単位） | AF24: 支出済額（円）※税抜き
A39: 合計 | AF39: =SUM(AF25:AM38) -> 0
A41: 【災害備蓄等への対応】
A42: 品名 | H42: 用途 | AB42: 数量（単位） | AF42: 支出済額（円）※税抜き
A57: 合計 | AF57: =SUM(AF43:AM56) -> 0
A59: ２．介護施設等に対するサービス継続支援事業（食事提供分） | AD59: 補助上限額 | AI59: 申請兼実績額
AD60: =IFERROR(VLOOKUP(L10,リスト!B24:E30,4,FALSE)*AJ10,"") | AG60: 千円 | AI60: =IF(AD60="","",MIN(AD60,ROUNDDOWN(AF77/1000,0))) | AL60: 千円
A62: 品名 | H62: 用途 | AB62: 数量（単位） | AF62: 支出済額（円）※税抜き
A77: 合計 | AF77: =SUM(AF63:AM76) -> 0
A79: （注）申請兼実績額は、補助上限額と支出済額を比較していずれか低い方の額が入力される。

Sheet 個票9
A1: （別添１－２）
A3: サービス継続支援事業に関する事業実績報告書（事業所・施設単位）
A5: 事業所・施設概要
A7: 介護保険事業所番号 | O7: 名称
A8: 所在地 | D8: 都道府県名 | H8: 住所 | Y8: 連絡先 | AB8: 電話番号
D9: 青森県
A10: 提供サービス（プルダウンから選択） | AG10: 定員 | AL10: 人
A11: 事業区分 | J11: 介護事業所等に対するサービス継続支援事業 | Z11: 介護施設等に対するサービス継続支援事業
A13: 申請にあたっての確認事項
A15: 領収書等の根拠資料は事業所等において適切に保管している。
A16: 支出予定の費用について、他の補助金等と重複は生じていない。
A17: 消費税は含んでいない。
A19: 支出済額
A21: １．介護事業所等に対するサービス継続支援事業（設備・備品分） | AD21: 補助上限額 | AI21: 申請兼実績額
AD22: =IFERROR(VLOOKUP(L10,リスト!B2:D23,2,FALSE),IFERROR(VLOOKUP(L10,リスト!B24:D30,2,FALSE)*AJ10,"")) | AG22: 千円 | AI22: =IF(AD22="","",MIN(AD22,ROUNDDOWN((AF39+AF57)/1000,0))) | AL22: 千円
A23: 【介護サービスを円滑に継続するための対応】
A24: 品名 | H24: 用途 | AB24: 数量（単位） | AF24: 支出済額（円）※税抜き
A39: 合計 | AF39: =SUM(AF25:AM38) -> 0
A41: 【災害備蓄等への対応】
A42: 品名 | H42: 用途 | AB42: 数量（単位） | AF42: 支出済額（円）※税抜き
A57: 合計 | AF57: =SUM(AF43:AM56) -> 0
A59: ２．介護施設等に対するサービス継続支援事業（食事提供分） | AD59: 補助上限額 | AI59: 申請兼実績額
AD60: =IFERROR(VLOOKUP(L10,リスト!B24:E30,4,FALSE)*AJ10,"") | AG60: 千円 | AI60: =IF(AD60="","",MIN(AD60,ROUNDDOWN(AF77/1000,0))) | AL60: 千円
A62: 品名 | H62: 用途 | AB62: 数量（単位） | AF62: 支出済額（円）※税抜き
A77: 合計 | AF77: =SUM(AF63:AM76) -> 0
A79: （注）申請兼実績額は、補助上限額と支出済額を比較していずれか低い方の額が入力される。

Sheet 個票10
A1: （別添１－２）
A3: サービス継続支援事業に関する事業実績報告書（事業所・施設単位）
A5: 事業所・施設概要
A7: 介護保険事業所番号 | O7: 名称
A8: 所在地 | D8: 都道府県名 | H8: 住所 | Y8: 連絡先 | AB8: 電話番号
D9: 青森県
A10: 提供サービス（プルダウンから選択） | AG10: 定員 | AL10: 人
A11: 事業区分 | J11: 介護事業所等に対するサービス継続支援事業 | Z11: 介護施設等に対するサービス継続支援事業
A13: 申請にあたっての確認事項
A15: 領収書等の根拠資料は事業所等において適切に保管している。
A16: 支出予定の費用について、他の補助金等と重複は生じていない。
A17: 消費税は含んでいない。
A19: 支出済額
A21: １．介護事業所等に対するサービス継続支援事業（設備・備品分） | AD21: 補助上限額 | AI21: 申請兼実績額
AD22: =IFERROR(VLOOKUP(L10,リスト!B2:D23,2,FALSE),IFERROR(VLOOKUP(L10,リスト!B24:D30,2,FALSE)*AJ10,"")) | AG22: 千円 | AI22: =IF(AD22="","",MIN(AD22,ROUNDDOWN((AF39+AF57)/1000,0))) | AL22: 千円
A23: 【介護サービスを円滑に継続するための対応】
A24: 品名 | H24: 用途 | AB24: 数量（単位） | AF24: 支出済額（円）※税抜き
A39: 合計 | AF39: =SUM(AF25:AM38) -> 0
A41: 【災害備蓄等への対応】
A42: 品名 | H42: 用途 | AB42: 数量（単位） | AF42: 支出済額（円）※税抜き
A57: 合計 | AF57: =SUM(AF43:AM56) -> 0
A59: ２．介護施設等に対するサービス継続支援事業（食事提供分） | AD59: 補助上限額 | AI59: 申請兼実績額
AD60: =IFERROR(VLOOKUP(L10,リスト!B24:E30,4,FALSE)*AJ10,"") | AG60: 千円 | AI60: =IF(AD60="","",MIN(AD60,ROUNDDOWN(AF77/1000,0))) | AL60: 千円
A62: 品名 | H62: 用途 | AB62: 数量（単位） | AF62: 支出済額（円）※税抜き
A77: 合計 | AF77: =SUM(AF63:AM76) -> 0
A79: （注）申請兼実績額は、補助上限額と支出済額を比較していずれか低い方の額が入力される。

Sheet 個票11
A1: （別添１－２）
A3: サービス継続支援事業に関する事業実績報告書（事業所・施設単位）
A5: 事業所・施設概要
A7: 介護保険事業所番号 | O7: 名称
A8: 所在地 | D8: 都道府県名 | H8: 住所 | Y8: 連絡先 | AB8: 電話番号
D9: 青森県
A10: 提供サービス（プルダウンから選択） | AG10: 定員 | AL10: 人
A11: 事業区分 | J11: 介護事業所等に対するサービス継続支援事業 | Z11: 介護施設等に対するサービス継続支援事業
A13: 申請にあたっての確認事項
A15: 領収書等の根拠資料は事業所等において適切に保管している。
A16: 支出予定の費用について、他の補助金等と重複は生じていない。
A17: 消費税は含んでいない。
A19: 支出済額
A21: １．介護事業所等に対するサービス継続支援事業（設備・備品分） | AD21: 補助上限額 | AI21: 申請兼実績額
AD22: =IFERROR(VLOOKUP(L10,リスト!B2:D23,2,FALSE),IFERROR(VLOOKUP(L10,リスト!B24:D30,2,FALSE)*AJ10,"")) | AG22: 千円 | AI22: =IF(AD22="","",MIN(AD22,ROUNDDOWN((AF39+AF57)/1000,0))) | AL22: 千円
A23: 【介護サービスを円滑に継続するための対応】
A24: 品名 | H24: 用途 | AB24: 数量（単位） | AF24: 支出済額（円）※税抜き
A39: 合計 | AF39: =SUM(AF25:AM38) -> 0
A41: 【災害備蓄等への対応】
A42: 品名 | H42: 用途 | AB42: 数量（単位） | AF42: 支出済額（円）※税抜き
A57: 合計 | AF57: =SUM(AF43:AM56) -> 0
A59: ２．介護施設等に対するサービス継続支援事業（食事提供分） | AD59: 補助上限額 | AI59: 申請兼実績額
AD60: =IFERROR(VLOOKUP(L10,リスト!B24:E30,4,FALSE)*AJ10,"") | AG60: 千円 | AI60: =IF(AD60="","",MIN(AD60,ROUNDDOWN(AF77/1000,0))) | AL60: 千円
A62: 品名 | H62: 用途 | AB62: 数量（単位） | AF62: 支出済額（円）※税抜き
A77: 合計 | AF77: =SUM(AF63:AM76) -> 0
A79: （注）申請兼実績額は、補助上限額と支出済額を比較していずれか低い方の額が入力される。

Sheet 個票12
A1: （別添１－２）
A3: サービス継続支援事業に関する事業実績報告書（事業所・施設単位）
A5: 事業所・施設概要
A7: 介護保険事業所番号 | O7: 名称
A8: 所在地 | D8: 都道府県名 | H8: 住所 | Y8: 連絡先 | AB8: 電話番号
D9: 青森県
A10: 提供サービス（プルダウンから選択） | AG10: 定員 | AL10: 人
A11: 事業区分 | J11: 介護事業所等に対するサービス継続支援事業 | Z11: 介護施設等に対するサービス継続支援事業
A13: 申請にあたっての確認事項
A15: 領収書等の根拠資料は事業所等において適切に保管している。
A16: 支出予定の費用について、他の補助金等と重複は生じていない。
A17: 消費税は含んでいない。
A19: 支出済額
A21: １．介護事業所等に対するサービス継続支援事業（設備・備品分） | AD21: 補助上限額 | AI21: 申請兼実績額
AD22: =IFERROR(VLOOKUP(L10,リスト!B2:D23,2,FALSE),IFERROR(VLOOKUP(L10,リスト!B24:D30,2,FALSE)*AJ10,"")) | AG22: 千円 | AI22: =IF(AD22="","",MIN(AD22,ROUNDDOWN((AF39+AF57)/1000,0))) | AL22: 千円
A23: 【介護サービスを円滑に継続するための対応】
A24: 品名 | H24: 用途 | AB24: 数量（単位） | AF24: 支出済額（円）※税抜き
A39: 合計 | AF39: =SUM(AF25:AM38) -> 0
A41: 【災害備蓄等への対応】
A42: 品名 | H42: 用途 | AB42: 数量（単位） | AF42: 支出済額（円）※税抜き
A57: 合計 | AF57: =SUM(AF43:AM56) -> 0
A59: ２．介護施設等に対するサービス継続支援事業（食事提供分） | AD59: 補助上限額 | AI59: 申請兼実績額
AD60: =IFERROR(VLOOKUP(L10,リスト!B24:E30,4,FALSE)*AJ10,"") | AG60: 千円 | AI60: =IF(AD60="","",MIN(AD60,ROUNDDOWN(AF77/1000,0))) | AL60: 千円
A62: 品名 | H62: 用途 | AB62: 数量（単位） | AF62: 支出済額（円）※税抜き
A77: 合計 | AF77: =SUM(AF63:AM76) -> 0
A79: （注）申請兼実績額は、補助上限額と支出済額を比較していずれか低い方の額が入力される。

Sheet 個票13
A1: （別添１－２）
A3: サービス継続支援事業に関する事業実績報告書（事業所・施設単位）
A5: 事業所・施設概要
A7: 介護保険事業所番号 | O7: 名称
A8: 所在地 | D8: 都道府県名 | H8: 住所 | Y8: 連絡先 | AB8: 電話番号
D9: 青森県
A10: 提供サービス（プルダウンから選択） | AG10: 定員 | AL10: 人
A11: 事業区分 | J11: 介護事業所等に対するサービス継続支援事業 | Z11: 介護施設等に対するサービス継続支援事業
A13: 申請にあたっての確認事項
A15: 領収書等の根拠資料は事業所等において適切に保管している。
A16: 支出予定の費用について、他の補助金等と重複は生じていない。
A17: 消費税は含んでいない。
A19: 支出済額
A21: １．介護事業所等に対するサービス継続支援事業（設備・備品分） | AD21: 補助上限額 | AI21: 申請兼実績額
AD22: =IFERROR(VLOOKUP(L10,リスト!B2:D23,2,FALSE),IFERROR(VLOOKUP(L10,リスト!B24:D30,2,FALSE)*AJ10,"")) | AG22: 千円 | AI22: =IF(AD22="","",MIN(AD22,ROUNDDOWN((AF39+AF57)/1000,0))) | AL22: 千円
A23: 【介護サービスを円滑に継続するための対応】
A24: 品名 | H24: 用途 | AB24: 数量（単位） | AF24: 支出済額（円）※税抜き
A39: 合計 | AF39: =SUM(AF25:AM38) -> 0
A41: 【災害備蓄等への対応】
A42: 品名 | H42: 用途 | AB42: 数量（単位） | AF42: 支出済額（円）※税抜き
A57: 合計 | AF57: =SUM(AF43:AM56) -> 0
A59: ２．介護施設等に対するサービス継続支援事業（食事提供分） | AD59: 補助上限額 | AI59: 申請兼実績額
AD60: =IFERROR(VLOOKUP(L10,リスト!B24:E30,4,FALSE)*AJ10,"") | AG60: 千円 | AI60: =IF(AD60="","",MIN(AD60,ROUNDDOWN(AF77/1000,0))) | AL60: 千円
A62: 品名 | H62: 用途 | AB62: 数量（単位） | AF62: 支出済額（円）※税抜き
A77: 合計 | AF77: =SUM(AF63:AM76) -> 0
A79: （注）申請兼実績額は、補助上限額と支出済額を比較していずれか低い方の額が入力される。

Sheet 個票14
A1: （別添１－２）
A3: サービス継続支援事業に関する事業実績報告書（事業所・施設単位）
A5: 事業所・施設概要
A7: 介護保険事業所番号 | O7: 名称
A8: 所在地 | D8: 都道府県名 | H8: 住所 | Y8: 連絡先 | AB8: 電話番号
D9: 青森県
A10: 提供サービス（プルダウンから選択） | AG10: 定員 | AL10: 人
A11: 事業区分 | J11: 介護事業所等に対するサービス継続支援事業 | Z11: 介護施設等に対するサービス継続支援事業
A13: 申請にあたっての確認事項
A15: 領収書等の根拠資料は事業所等において適切に保管している。
A16: 支出予定の費用について、他の補助金等と重複は生じていない。
A17: 消費税は含んでいない。
A19: 支出済額
A21: １．介護事業所等に対するサービス継続支援事業（設備・備品分） | AD21: 補助上限額 | AI21: 申請兼実績額
AD22: =IFERROR(VLOOKUP(L10,リスト!B2:D23,2,FALSE),IFERROR(VLOOKUP(L10,リスト!B24:D30,2,FALSE)*AJ10,"")) | AG22: 千円 | AI22: =IF(AD22="","",MIN(AD22,ROUNDDOWN((AF39+AF57)/1000,0))) | AL22: 千円
A23: 【介護サービスを円滑に継続するための対応】
A24: 品名 | H24: 用途 | AB24: 数量（単位） | AF24: 支出済額（円）※税抜き
A39: 合計 | AF39: =SUM(AF25:AM38) -> 0
A41: 【災害備蓄等への対応】
A42: 品名 | H42: 用途 | AB42: 数量（単位） | AF42: 支出済額（円）※税抜き
A57: 合計 | AF57: =SUM(AF43:AM56) -> 0
A59: ２．介護施設等に対するサービス継続支援事業（食事提供分） | AD59: 補助上限額 | AI59: 申請兼実績額
AD60: =IFERROR(VLOOKUP(L10,リスト!B24:E30,4,FALSE)*AJ10,"") | AG60: 千円 | AI60: =IF(AD60="","",MIN(AD60,ROUNDDOWN(AF77/1000,0))) | AL60: 千円
A62: 品名 | H62: 用途 | AB62: 数量（単位） | AF62: 支出済額（円）※税抜き
A77: 合計 | AF77: =SUM(AF63:AM76) -> 0
A79: （注）申請兼実績額は、補助上限額と支出済額を比較していずれか低い方の額が入力される。

Sheet 個票15
A1: （別添１－２）
A3: サービス継続支援事業に関する事業実績報告書（事業所・施設単位）
A5: 事業所・施設概要
A7: 介護保険事業所番号 | O7: 名称
A8: 所在地 | D8: 都道府県名 | H8: 住所 | Y8: 連絡先 | AB8: 電話番号
D9: 青森県
A10: 提供サービス（プルダウンから選択） | AG10: 定員 | AL10: 人
A11: 事業区分 | J11: 介護事業所等に対するサービス継続支援事業 | Z11: 介護施設等に対するサービス継続支援事業
A13: 申請にあたっての確認事項
A15: 領収書等の根拠資料は事業所等において適切に保管している。
A16: 支出予定の費用について、他の補助金等と重複は生じていない。
A17: 消費税は含んでいない。
A19: 支出済額
A21: １．介護事業所等に対するサービス継続支援事業（設備・備品分） | AD21: 補助上限額 | AI21: 申請兼実績額
AD22: =IFERROR(VLOOKUP(L10,リスト!B2:D23,2,FALSE),IFERROR(VLOOKUP(L10,リスト!B24:D30,2,FALSE)*AJ10,"")) | AG22: 千円 | AI22: =IF(AD22="","",MIN(AD22,ROUNDDOWN((AF39+AF57)/1000,0))) | AL22: 千円
A23: 【介護サービスを円滑に継続するための対応】
A24: 品名 | H24: 用途 | AB24: 数量（単位） | AF24: 支出済額（円）※税抜き
A39: 合計 | AF39: =SUM(AF25:AM38) -> 0
A41: 【災害備蓄等への対応】
A42: 品名 | H42: 用途 | AB42: 数量（単位） | AF42: 支出済額（円）※税抜き
A57: 合計 | AF57: =SUM(AF43:AM56) -> 0
A59: ２．介護施設等に対するサービス継続支援事業（食事提供分） | AD59: 補助上限額 | AI59: 申請兼実績額
AD60: =IFERROR(VLOOKUP(L10,リスト!B24:E30,4,FALSE)*AJ10,"") | AG60: 千円 | AI60: =IF(AD60="","",MIN(AD60,ROUNDDOWN(AF77/1000,0))) | AL60: 千円
A62: 品名 | H62: 用途 | AB62: 数量（単位） | AF62: 支出済額（円）※税抜き
A77: 合計 | AF77: =SUM(AF63:AM76) -> 0
A79: （注）申請兼実績額は、補助上限額と支出済額を比較していずれか低い方の額が入力される。

Sheet 記入例
A1: （別添１－２）
A3: サービス継続支援事業に関する事業実績報告書（事業所・施設単位）
A5: 事業所・施設概要
A7: 介護保険事業所番号 | H7: 1111111111 | O7: 施設名称 | T7: 〇〇施設
A8: 所在地 | D8: 都道府県名 | H8: 住所 | Y8: 連絡先 | AB8: 電話番号
D9: 青森県
A10: 提供サービス（プルダウンから選択） | L10: 介護老人福祉施設 | AG10: 定員 | AJ10: 100 | AL10: 人
A11: 事業区分 | J11: 介護事業所等に対するサービス継続支援事業 | Z11: 介護施設等に対するサービス継続支援事業
A13: 申請にあたっての確認事項
A15: 領収書等の根拠資料は事業所等において適切に保管している。 | X15: ✔
A16: 支出予定の費用について、他の補助金等と重複は生じていない。 | X16: ✔
A17: 消費税は含んでいない。 | X17: ✔
A19: 支出済額
A21: １．介護事業所等に対するサービス継続支援事業（設備・備品分） | AD21: 補助上限額 | AI21: 申請兼実績額
AD22: =IFERROR(VLOOKUP(L10,リスト!B2:D23,2,FALSE),IFERROR(VLOOKUP(L10,リスト!B24:D30,2,FALSE)*AJ10,"")) -> 600 | AG22: 千円 | AI22: =MIN(AD22,ROUNDDOWN((AF30+AF39)/1000,0)) -> 600 | AL22: 千円
A23: 【介護サービスを円滑に継続するための対応】
A24: 品名 | H24: 用途 | AB24: 数量（単位） | AF24: 支出済額（円）※税抜き
A25: ネッククーラー | H25: 猛暑対策のため | AB25: 10個 | AF25: 50000
A30: 合計 | AF30: =SUM(AF25:AM29) -> 50000
A32: 【災害備蓄等への対応】
A33: 品名 | H33: 用途 | AB33: 数量（単位） | AF33: 支出済額（円）※税抜き
A34: ポータブル発電機 | H34: 災害時の停電対策のため | AB34: 5台 | AF34: 1000000
A39: 合計 | AF39: =SUM(AF34:AM38) -> 1000000
A41: ２．介護施設等に対するサービス継続支援事業（食事提供分） | AD41: 補助上限額 | AI41: 申請兼実績額
AD42: =IFERROR(VLOOKUP(L10,リスト!B24:E30,4,FALSE)*AJ10,"") -> 1800 | AG42: 千円 | AI42: =IF(AD42="","",MIN(AD42,ROUNDDOWN(AF50/1000,0))) -> 1800 | AL42: 千円
A44: 品名 | H44: 用途 | AB44: 数量（単位） | AF44: 支出済額（円）※税抜き
A45: 食事提供委託料 | H45: 施設の食事提供のため（７月～９月分） | AB45: １式 | AF45: 5000000
A46: 食材一式 | H46: 施設の食事提供のため（７月） | AB46: １式 | AF46: 300000
A47: 食材一式 | H47: 施設の食事提供のため（8月） | AB47: １式 | AF47: 400000
A50: 合計 | AF50: =SUM(AF45:AM49) -> 5700000
A52: （注）申請兼実績額は、補助上限額と支出済額を比較していずれか低い方の額が入力される。

Sheet 単価表
A1: 別添 | C1: 新型コロナウイルス感染症緊急包括支援事業（介護分）
A2: 基準単価（単位：千円、１事業所又は１定員当たり） | I2: （１）②ⅰ今後に備えた都道府県における消毒液・マスク等の備蓄
G3: （１）① 感染症対策を徹底した上での介護サービス提供支援事業
C4: 助成対象 事業所・施設等の種別（※１） | G4: 令和２年４月１日以降、感染症を対策を徹底した上で、介護サービス提供を行うために必要なかかり増し経費が発生した介護サービス事業所・施設等（１～２８）（※２）
C5: 通所系 | D5: 1 | E5: 通所介護事業所 | F5: 通常規模型 | G5: 653 | H5: /事業所
D6: 2 | F6: 大規模型（Ⅰ） | G6: 831 | H6: /事業所
D7: 3 | F7: 大規模型（Ⅱ） | G7: 1075 | H7: /事業所
D8: 4 | E8: 地域密着型通所介護事業所（療養通所介護事業所を含む） | G8: 305 | H8: /事業所
D9: 5 | E9: 認知症対応型通所介護事業所 | G9: 340 | H9: /事業所
D10: 6 | E10: 通所リハビリテーション事業所 | F10: 通常規模型 | G10: 642 | H10: /事業所
D11: 7 | F11: 大規模型（Ⅰ） | G11: 776 | H11: /事業所
D12: 8 | F12: 大規模型（Ⅱ） | G12: 1272 | H12: /事業所
C13: 短期入所系 | D13: 9 | E13: 短期入所生活介護事業所、短期入所療養介護事業所 | G13: 44 | H13: /定員
C14: 訪問系 | D14: 10 | E14: 訪問介護事業所 | G14: 500 | H14: /事業所
D15: 11 | E15: 訪問入浴介護事業所 | G15: 431 | H15: /事業所
D16: 12 | E16: 訪問看護事業所 | G16: 464 | H16: /事業所
D17: 13 | E17: 訪問リハビリテーション事業所 | G17: 153 | H17: /事業所
D18: 14 | E18: 定期巡回・随時対応型訪問介護看護事業所 | G18: 1002 | H18: /事業所
D19: 15 | E19: 夜間対応型訪問介護事業所 | G19: 573 | H19: /事業所
D20: 16 | E20: 居宅介護支援事業所 | G20: 227 | H20: /事業所
D21: 17 | E21: 福祉用具貸与事業所 | G21: 252 | H21: /事業所
D22: 18 | E22: 居宅療養管理指導事業所 | G22: 82 | H22: /事業所
C23: 多機能型 | D23: 19 | E23: 小規模多機能型居宅介護事業所 | G23: 637 | H23: /事業所
D24: 20 | E24: 看護小規模多機能型居宅介護事業所 | G24: 873 | H24: /事業所
C25: 入所施設・ 居住系 | D25: 21 | E25: 介護老人福祉施設 | G25: 40 | H25: /定員
D26: 22 | E26: 地域密着型介護老人福祉施設 | G26: 48 | H26: /定員
D27: 23 | E27: 介護老人保健施設 | G27: 39 | H27: /定員
D28: 24 | E28: 介護医療院 | G28: 48 | H28: /定員
D29: 25 | E29: 介護療養型医療施設 | G29: 43 | H29: /定員
D30: 26 | E30: 認知症対応型共同生活介護事業所 | G30: 48 | H30: /定員
D31: 27 | E31: 養護老人ホーム、軽費老人ホーム、有料老人ホーム、サービス付き高齢者向け住宅（定員30人以上） | G31: 37 | H31: /定員
D32: 28 | E32: 養護老人ホーム、軽費老人ホーム、有料老人ホーム、サービス付き高齢者向け住宅（定員29人以下） | G32: 37 | H32: /定員
A33: 対象経費（※３） | G33: a 感染症対策に要する衛生用品等の物品購入 b 外部専門家等による研修実施 c （研修受講等に要する）旅費・宿泊費等 d 感染発生時対応・衛生用品補完等に柔軟に使える多機能型簡易居室の設置等 e 感染防止を徹底するための面会室の改修費 f 消毒・清掃費用 g 職員が勤務時間外に消毒・清掃等を行った場合の超過勤務手当や休日勤務手当等の割増賃金や、通常想定していない感染症対策に関する業務の実施に伴う手当など、法人（施設）の給与規程等に基づき職員に支払われる手当等のほか、非常勤職員を雇上した場合の賃金【P】 h 感染防止のための増員のため発生する追加的人件費 i 感染防止のための増員等、応援職員に係る職業紹介手数料 j 自動車車の購入又はリース費用 k 自転車の購入又はリース費用 l タブレット等のＩＣＴ機器の購入又はリース費用（通信費用は除く） m 普段と異なる場所でのサービスを実施する際の、賃料・物品の使用料 n 普段と異なる場所でのサービスを実施する際の職員の交通費、利用者の送迎に係る費用 o 訪問介護員による同行指導への謝金
A34: 助成額 | G34: ・事業所・施設ごとに、基準単価と対象経費の実支出額とを比較して少ない方の額を助成額とする。なお、1,000円未満の端数が生じた場合には、これを切り捨てるものとする。 ・また、１事業所・施設当たり上限額に達するまで助成することができる。 ・１事業所・施設に（１）①と（２）①・②の両方を助成することができる。
A35: ※１ 事業所・施設等について、助成の申請時点で指定等を受けている者であり、また
A36: ・ 各介護予防サービスを含むが、介護サービスと介護予防サービスの両方の指定を受けている場合は、１つの事業所・施設として取扱う。
A37: ・ 介護予防・日常生活支援総合事業（指定サービス・介護予防ケアマネジメント）を実施する事業所は、通所型は通所介護事業所（通常規模型）と、訪問型は訪問介護事業所と、
B38: 介護予防ケアマネジメントは居宅介護支援事業所と同じとするが、介護サービスと総合事業の両方の指定を受けている場合は、１つの事業所として取扱う。
A39: ・ 通所介護及び通所リハビリテーションの事業所規模は、介護報酬上の規模区分であり、助成の申請時点で判断すること。
A40: ※２ 利用者又は職員に感染者が発生しているか否かは問わない
...

Sheet リスト
B1: 事業所・施設等の種別
A2: 1 | B2: 訪問介護事業所 同一建物減算の算定がある事業所 | C2: 200 | D2: /事業所
A3: 2 | B3: 訪問介護事業所 上記以外であって、1月あたり延べ訪問回数200回以下 | C3: 300 | D3: /事業所
A4: 3 | B4: 訪問介護事業所 上記以外であって、1月あたり延べ訪問回数201回以上2,000回以下 | C4: 400 | D4: /事業所
A5: 4 | B5: 訪問介護事業所 上記以外であって、1月あたり延べ訪問回数2,001回以上 | C5: 500 | D5: /事業所
A6: 5 | B6: 訪問入浴介護事業所 | C6: 200 | D6: /事業所
A7: 6 | B7: 訪問看護事業所 | C7: 200 | D7: /事業所
A8: 7 | B8: 訪問リハビリテーション事業所 | C8: 200 | D8: /事業所
A9: 8 | B9: 通所介護事業所 1月あたり延べ利用者数300人以下 | C9: 200 | D9: /事業所
A10: 9 | B10: 通所介護事業所 1月あたり延べ利用者数301人以上600人以下 | C10: 300 | D10: /定員
A11: 10 | B11: 通所介護事業所 1月あたり延べ利用者数601人以上 | C11: 400 | D11: /定員
A12: 11 | B12: 通所リハビリテーション事業所 | C12: 200 | D12: /事業所
A13: 12 | B13: 特定施設入居者生活介護（養護老人ホーム、軽費老人ホームを除く） | C13: 200 | D13: /事業所
... A23: 22 | B23: 居宅介護支援事業所 | C23: 200 | D23: /事業所
A24: 23 | B24: 介護老人福祉施設 | C24: 6 | D24: /定員 | E24: 18 | F24: /定員
A25: 24 | B25: 介護老人保健施設 | C25: 6 | D25: /定員 | E25: 18 | F25: /定員
A26: 25 | B26: 介護医療院 | C26: 6 | D26: /定員 | E26: 18 | F26: /定員
A27: 26 | B27: 地域密着型介護老人福祉施設 | C27: 6 | D27: /定員 | E27: 18 | F27: /定員
A28: 27 | B28: 短期入所生活介護事業所 | C28: 6 | D28: /定員 | E28: 18 | F28: /定員
A29: 28 | B29: 養護老人ホーム | C29: 6 | D29: /定員 | E29: 18 | F29: /定員
A30: 29 | B30: 軽費老人ホーム | C30: 6 | D30: /定員 | E30: 18 | F30: /定員
B32: 北海道
B33: 青森県
B34: 岩手県
B35: 宮城県
B36: 秋田県
B37: 山形県
B38: 福島県
B39: 茨城県
B40: 栃木県
B41: 群馬県
B42: 埼玉県
B43: 千葉県
... B78: 沖縄県
